BEGIN:VCALENDAR
VERSION:2.0
PRODID:-//Kinetic Sailing - ECPv4.9.13//NONSGML v1.0//EN
CALSCALE:GREGORIAN
METHOD:PUBLISH
X-WR-CALNAME:Kinetic Sailing
X-ORIGINAL-URL:https://kineticsail.com
X-WR-CALDESC:Events for Kinetic Sailing
BEGIN:VTIMEZONE
TZID:UTC
BEGIN:STANDARD
TZOFFSETFROM:+0000
TZOFFSETTO:+0000
TZNAME:UTC
DTSTART:20220101T000000
END:STANDARD
END:VTIMEZONE
BEGIN:VEVENT
DTSTART;TZID=UTC:20220714T193000
DTEND;TZID=UTC:20220714T210000
DTSTAMP:20260423T173203
CREATED:20220704T144227Z
LAST-MODIFIED:20220704T144413Z
UID:2746-1657827000-1657832400@kineticsail.com
SUMMARY:Weather Planning for Passagemakers - Webinar
DESCRIPTION:No matter how much you prep and plan\, you cannot control the weather. However\, you can be proactive by understanding weather elements\, sources\, routing and timing.   This course is designed for sailors of all levels who want to understand weather and optimize sailing plans accordingly. \nThis online class is conducted by Captain Lisa Batchelor Frailey – meteorologist\, passagemaker and ASA instructor who also teaches ASA 119 Marine Weather and ASA 108 Ocean Passagemaking. \nIn this class you’ll learn effective weather planning for coastal and ocean passages by blending weather\, oceanography and navigation. Review some marine weather and Gulf Stream basics\, learn to interpret synoptic weather charts and text forecasts\, explore the pros and cons of GRIB files. Learn about weather models\, weather routing\, and getting data while offshore. We’ll put it all together with a bluewater passage scenario\, from climatology through route planning\, Gulfstream crossing\, enroute weather and observations. \nRegister here:  Weather Planning for Passagemakers \nAll registrants (present or not on 14 July) have access to the recording for 12 months! \n  \n
URL:https://kineticsail.com/schedule/weather-planning-for-passagemakers-webinar/
END:VEVENT
END:VCALENDAR