BEGIN:VCALENDAR
VERSION:2.0
PRODID:-//Kinetic Sailing - ECPv4.9.13//NONSGML v1.0//EN
CALSCALE:GREGORIAN
METHOD:PUBLISH
X-WR-CALNAME:Kinetic Sailing
X-ORIGINAL-URL:https://kineticsail.com
X-WR-CALDESC:Events for Kinetic Sailing
BEGIN:VTIMEZONE
TZID:UTC
BEGIN:STANDARD
TZOFFSETFROM:+0000
TZOFFSETTO:+0000
TZNAME:UTC
DTSTART:20170101T000000
END:STANDARD
END:VTIMEZONE
BEGIN:VEVENT
DTSTART;VALUE=DATE:20171122
DTEND;VALUE=DATE:20171130
DTSTAMP:20260423T215437
CREATED:20170826T155113Z
LAST-MODIFIED:20170928T022923Z
UID:1768-1511308800-1511999999@kineticsail.com
SUMMARY:Thanksgiving in the Caribbean
DESCRIPTION:Tired of the same turkey/football routine?  Try something new – spend Thanksgiving aboard S/V Kinetic in the Caribbean!  Enjoy fine wine and cuisine\, swim in crystal clear waters\, sail in the glorious tradewinds while you hone your sailing skills.  See the best of the Leeward Islands while sailing aboard Outbound 46 Kinetic.  \nInstruction includes advanced sail theory and trim\, weather systems and forecasting\, sail inventory\,  coastal navigation\, heavy weather preparation and skills\, watchstanding\, emergency procedures\, systems and engineering\, underway meal prep and much more. ASA 104 (Bareboat Cruising) and ASA 106 Advanced Coastal Cruising (Coastal Passagemaking) certification is available to qualified candidates. \nFees include onboard meals and beverages\, instruction\, ships operating costs and port fees. Certification fees are an additional $175. \nS/V Kinetic \nJolly Harbour\, Antigua \nWhether you’re onboard for a certification or simply to further your skills\, you’ll be actively involved in all aspects of this passage\, for an experience like no other!  Contact us to arrange your holiday dates onboard\, and we’ll select the most suitable islands for you. \nDinner in Les Saintes \nHistoric Nelson’s Dockyard \n
URL:https://kineticsail.com/schedule/thanksgiving-in-caribbean/
ORGANIZER;CN="Kinetic%20Sailing":MAILTO:info at kineticsail.com
END:VEVENT
END:VCALENDAR