BEGIN:VCALENDAR
VERSION:2.0
PRODID:-//Kinetic Sailing - ECPv4.9.13//NONSGML v1.0//EN
CALSCALE:GREGORIAN
METHOD:PUBLISH
X-WR-CALNAME:Kinetic Sailing
X-ORIGINAL-URL:https://kineticsail.com
X-WR-CALDESC:Events for Kinetic Sailing
BEGIN:VTIMEZONE
TZID:UTC
BEGIN:STANDARD
TZOFFSETFROM:+0000
TZOFFSETTO:+0000
TZNAME:UTC
DTSTART:20210101T000000
END:STANDARD
END:VTIMEZONE
BEGIN:VEVENT
DTSTART;TZID=UTC:20211005T200000
DTEND;TZID=UTC:20211005T210000
DTSTAMP:20260423T185413
CREATED:20210824T190416Z
LAST-MODIFIED:20210824T190416Z
UID:2687-1633464000-1633467600@kineticsail.com
SUMMARY:Take the Stress out of Docking & Maneuvering - Live Webinar
DESCRIPTION:This webinar is suitable for sailors of all levels who wish to improve maneuvering skills and docking techniques.  Discover how a boat’s individual characteristics affect maneuverability under power\, and how you can use those features to your advantage. Assess the local variable conditions to decide upon and communicate a plan of action. You will learn how to use spring lines and transits to counter the effects of wind and current.  Captains Andy and Lisa Batchelor will explore a number of techniques to overcome mooring and docking challenges\, and discuss best practices for common and tricky situations. While the focus is on single-engine monohull sailboats\, the theory and many techniques apply to all boats. \nHosted by the American Sailing Association as a 2-part live webinar on 5 and 7 October 2021\, and then available on-demand.  Watch this site to schedule! \nSpringing out of a slip \nParallel docking with aft-led spring \nMooring field practice drills \nDocking stern-to \nSpringing the stern out \n
URL:https://kineticsail.com/schedule/take-the-stress-out-of-docking-maneuvering-live-webinar/
LOCATION:Live Webinar
END:VEVENT
END:VCALENDAR