BEGIN:VCALENDAR
VERSION:2.0
PRODID:-//Kinetic Sailing - ECPv4.9.13//NONSGML v1.0//EN
CALSCALE:GREGORIAN
METHOD:PUBLISH
X-WR-CALNAME:Kinetic Sailing
X-ORIGINAL-URL:https://kineticsail.com
X-WR-CALDESC:Events for Kinetic Sailing
BEGIN:VTIMEZONE
TZID:UTC
BEGIN:STANDARD
TZOFFSETFROM:+0000
TZOFFSETTO:+0000
TZNAME:UTC
DTSTART:20160101T000000
END:STANDARD
END:VTIMEZONE
BEGIN:VEVENT
DTSTART;VALUE=DATE:20160716
DTEND;VALUE=DATE:20160724
DTSTAMP:20260423T232104
CREATED:20160405T233228Z
LAST-MODIFIED:20160405T234142Z
UID:1632-1468627200-1469318399@kineticsail.com
SUMMARY:Southern New England Coastal Cruising
DESCRIPTION:Escape to Southern New England for a week of live-aboard cruising\, training and nautical mile-building. Board S/V Kinetic on Sunday afternoon\, July 17th in Stonington CT. We’ll set sail the next morning and cruise to favorites including Block Island\, Cuttyhunk\, Martha’s Vineyard\, Nantucket and Newport. \nInstruction includes cruise planning\, living aboard\, navigation\, weather systems\, sail trim\, basic systems and troubleshooting\, docking\, anchoring\, mooring. ASA 104 Bareboat Cruising certification is available to qualified candidates.  Fees include onboard meals and beverages\, ships operating costs\, port fees\, instruction\, and certification fees. \nWhether you come for certification or to hone your cruising skills\, this will be a week to treasure! \n  \n \n
URL:https://kineticsail.com/schedule/southern-new-england-coastal-cruising/
LOCATION:Stonington Harbor\, 194 Water Street\, Stonington\, CT\, 06378\, United States
ORGANIZER;CN="Kinetic%20Sailing":MAILTO:info at kineticsail.com
END:VEVENT
END:VCALENDAR