BEGIN:VCALENDAR
VERSION:2.0
PRODID:-//Kinetic Sailing - ECPv4.9.13//NONSGML v1.0//EN
CALSCALE:GREGORIAN
METHOD:PUBLISH
X-WR-CALNAME:Kinetic Sailing
X-ORIGINAL-URL:https://kineticsail.com
X-WR-CALDESC:Events for Kinetic Sailing
BEGIN:VTIMEZONE
TZID:UTC
BEGIN:STANDARD
TZOFFSETFROM:+0000
TZOFFSETTO:+0000
TZNAME:UTC
DTSTART:20170101T000000
END:STANDARD
END:VTIMEZONE
BEGIN:VEVENT
DTSTART;VALUE=DATE:20170422
DTEND;VALUE=DATE:20170430
DTSTAMP:20260423T231943
CREATED:20161026T165337Z
LAST-MODIFIED:20161130T165503Z
UID:1693-1492819200-1493510399@kineticsail.com
SUMMARY:Caribbean Passagemaking: Antigua to St Thomas  (SOLD OUT)
DESCRIPTION:After you’ve experienced bareboat cruising or flotillas\, coastal passagemaking and night sailing is the next natural step in your sailing continuum.  Join Kinetic Sailing for a passage from Antigua to St Thomas onboard the Outbound 46 Kinetic.  This 200 nm passage runs from the Leeward to the US Virgin Islands. \nInstruction includes advanced sail theory and trim\, weather systems and forecasting\, sail inventory\, advanced coastal navigation\, heavy weather preparation and skills\, night sailing\, watchstanding\, emergency procedures\, systems and engineering\, underway meal prep and much more. ASA 106 Advanced Coastal Cruising (Coastal Passagemaking) certification is available to qualified candidates. \nYour $2000 fee includes onboard meals and beverages\, ships operating costs and port fees. Certification materials & fees are $175 additional. \nWhether you’re onboard for a certification or simply to further your skills\, you’ll be actively involved in all aspects of this passage\, for an amazing Caribbean experience! \n \n
URL:https://kineticsail.com/schedule/passage-antigua-to-st-thomas-asa-106-available/
END:VEVENT
END:VCALENDAR