BEGIN:VCALENDAR
VERSION:2.0
PRODID:-//Kinetic Sailing - ECPv4.9.13//NONSGML v1.0//EN
CALSCALE:GREGORIAN
METHOD:PUBLISH
X-WR-CALNAME:Kinetic Sailing
X-ORIGINAL-URL:https://kineticsail.com
X-WR-CALDESC:Events for Kinetic Sailing
BEGIN:VTIMEZONE
TZID:UTC
BEGIN:STANDARD
TZOFFSETFROM:+0000
TZOFFSETTO:+0000
TZNAME:UTC
DTSTART:20190101T000000
END:STANDARD
END:VTIMEZONE
BEGIN:VEVENT
DTSTART;VALUE=DATE:20190309
DTEND;VALUE=DATE:20190317
DTSTAMP:20260423T185150
CREATED:20181012T005905Z
LAST-MODIFIED:20190107T001648Z
UID:2201-1552089600-1552780799@kineticsail.com
SUMMARY:Offshore Passagemaking: Grenada to Bonaire
DESCRIPTION:500 nm downwind passage from the Spice Island of Grenada to Bonaire\, the diving capital of the Caribbean.  Maximum 2 guests onboard. ASA 106 Coastal Passagemaking or ASA 108 Offshore Passagemaking available to qualified students\, nominal certification fees additional. Contact us for details (some flexibility in dates). \nPoled out downwind \nKinetic under spinnaker \nSt Georges\, Grenada \n  \n
URL:https://kineticsail.com/schedule/offshore-passagemaking-grenada-to-bonaire/
LOCATION:Grenada\, Grenada
END:VEVENT
END:VCALENDAR