BEGIN:VCALENDAR
VERSION:2.0
PRODID:-//Kinetic Sailing - ECPv4.9.13//NONSGML v1.0//EN
CALSCALE:GREGORIAN
METHOD:PUBLISH
X-WR-CALNAME:Kinetic Sailing
X-ORIGINAL-URL:https://kineticsail.com
X-WR-CALDESC:Events for Kinetic Sailing
BEGIN:VTIMEZONE
TZID:UTC
BEGIN:STANDARD
TZOFFSETFROM:+0000
TZOFFSETTO:+0000
TZNAME:UTC
DTSTART:20180101T000000
END:STANDARD
END:VTIMEZONE
BEGIN:VEVENT
DTSTART;VALUE=DATE:20180707
DTEND;VALUE=DATE:20180715
DTSTAMP:20260423T214841
CREATED:20171222T161441Z
LAST-MODIFIED:20180324T201413Z
UID:1884-1530921600-1531612799@kineticsail.com
SUMMARY:Ocean Passagemaking:  Chesapeake Bay to New England (FULLY BOOKED)
DESCRIPTION:S/V KINETIC offshore \nJoin Kinetic Sailing for an offshore ocean passage from Solomons\, Maryland to Stonington\, Connecticut onboard the Outbound 46 KINETIC. \nInstruction includes advanced sail theory and trim\, weather systems and forecasting\, sail inventory\,  coastal and celestial navigation\, heavy weather preparation and skills\, night sailing\, watchstanding\, emergency procedures\, systems and engineering\, underway meal prep and much more. ASA 106 Coastal Passagemaking or ASA 108 Ocean Passagemaking certification is available to qualified candidates. \nFees include onboard meals and beverages\, instruction\, ship’s operating costs and port fees.  Modest ASA certification fees are additional. Transportation to and from KINETIC is your responsibility; logistics details will be provided. \nWhether you’re onboard for a certification or simply to further your skills and experience an ocean passage\, you’ll be actively involved in all aspects of this passage\, for an experience like no other! \nSunrise at sea \nCelestial Navigation Practice \n
URL:https://kineticsail.com/schedule/ocean-passagemaking-chesapeake-bay-to-new-england/
END:VEVENT
END:VCALENDAR