BEGIN:VCALENDAR
VERSION:2.0
PRODID:-//Kinetic Sailing - ECPv4.9.13//NONSGML v1.0//EN
CALSCALE:GREGORIAN
METHOD:PUBLISH
X-WR-CALNAME:Kinetic Sailing
X-ORIGINAL-URL:https://kineticsail.com
X-WR-CALDESC:Events for Kinetic Sailing
BEGIN:VTIMEZONE
TZID:UTC
BEGIN:STANDARD
TZOFFSETFROM:+0000
TZOFFSETTO:+0000
TZNAME:UTC
DTSTART:20210101T000000
END:STANDARD
END:VTIMEZONE
BEGIN:VEVENT
DTSTART;TZID=UTC:20210805T193000
DTEND;TZID=UTC:20210805T210000
DTSTAMP:20260423T185150
CREATED:20210708T233153Z
LAST-MODIFIED:20210708T233153Z
UID:2672-1628191800-1628197200@kineticsail.com
SUMMARY:Night Sailing Demystified - LIVE Webinar
DESCRIPTION: \nThis course is designed for sailors ready to expand their cruising horizons. Explore beyond your home waters or the geographic confines of a bareboat charter\, or simply continue a beautiful day’s sailing well past sunset.  Perhaps you’d like to participate in an overnight sailing race! Sailing at night saves time and money on coastal passages\, and it’s a necessity when sailing offshore.  Yet for many sailors\, the prospect of sailing at night can be daunting. Ocean passagemakers and coastal cruisers\, Captains Andy and Lisa will help to demystify night sailing by sharing tips and techniques to make sailing at night both safe and enjoyable.  Your instructors will cover inshore\, coastal and offshore cruising. They’ll give tips and techniques for preparation\, situational awareness\, orientation\, watchkeeping\, navigation\, collision avoidance and training – to make night sailing a pleasure!   Please register at the ASA link below. \nTopics include:\n\n\nPreparing the Boat: Topside\, Below Decks\, Electronics\nPreparing the Crew\nWatchkeeping\nSituational Awareness & Orientation\nSteering & Sail Trim at Night\nTips & Techniques for Navigation\nTips & Techniques for Collision Avoidance\nTraining\n\n\n\n
URL:https://kineticsail.com/schedule/night-sailing-demystified-live-webinar/
END:VEVENT
END:VCALENDAR