BEGIN:VCALENDAR
VERSION:2.0
PRODID:-//Kinetic Sailing - ECPv4.9.13//NONSGML v1.0//EN
CALSCALE:GREGORIAN
METHOD:PUBLISH
X-WR-CALNAME:Kinetic Sailing
X-ORIGINAL-URL:https://kineticsail.com
X-WR-CALDESC:Events for Kinetic Sailing
BEGIN:VTIMEZONE
TZID:UTC
BEGIN:STANDARD
TZOFFSETFROM:+0000
TZOFFSETTO:+0000
TZNAME:UTC
DTSTART:20230101T000000
END:STANDARD
END:VTIMEZONE
BEGIN:VEVENT
DTSTART;TZID=UTC:20230725T193000
DTEND;TZID=UTC:20230725T213000
DTSTAMP:20260423T162444
CREATED:20230622T173337Z
LAST-MODIFIED:20230622T175057Z
UID:2814-1690313400-1690320600@kineticsail.com
SUMMARY:Night Sailing Demystified - Live Online Class
DESCRIPTION:Explore beyond your home waters\, sail a passage to an exotic destination\, or simply continue a beautiful day’s sailing well past sunset. For many\, the prospect of sailing at night can be daunting. Ocean passagemakers and coastal cruisers\, Captains Andy and Lisa will help to demystify night sailing by sharing tips and techniques to make sailing at night safe\, efficient\, and enjoyable. \n\nCovering inshore\, coastal\, and offshore cruising. They’ll give tips and techniques for preparation\, situational awareness\, orientation\, watchkeeping\, navigation\, collision avoidance\, and training – to make night sailing a pleasure! \n\n\n\n\n\n\nTopics Include:\n\n\n\n\n\nPreparing the Boat: Topside\, Below Decks\, Electronics\nPreparing the Crew\nWatchkeeping\nSituational Awareness & Orientation\nSteering & Sail Trim at Night\nTips & Techniques for Navigation\nTips & Techniques for Collision Avoidance\nTraining\n\nRegistrants also have access to the recorded class for a full year\, whether or not you attend the live session. \n\n  \n
URL:https://kineticsail.com/schedule/night-sailing-demystified-live-online-class/
END:VEVENT
END:VCALENDAR