BEGIN:VCALENDAR
VERSION:2.0
PRODID:-//Kinetic Sailing - ECPv4.9.13//NONSGML v1.0//EN
CALSCALE:GREGORIAN
METHOD:PUBLISH
X-WR-CALNAME:Kinetic Sailing
X-ORIGINAL-URL:https://kineticsail.com
X-WR-CALDESC:Events for Kinetic Sailing
BEGIN:VTIMEZONE
TZID:UTC
BEGIN:STANDARD
TZOFFSETFROM:+0000
TZOFFSETTO:+0000
TZNAME:UTC
DTSTART:20180101T000000
END:STANDARD
END:VTIMEZONE
BEGIN:VEVENT
DTSTART;VALUE=DATE:20180716
DTEND;VALUE=DATE:20180722
DTSTAMP:20260423T202834
CREATED:20180129T193928Z
LAST-MODIFIED:20180408T161953Z
UID:1971-1531699200-1532217599@kineticsail.com
SUMMARY:Coastal Passagemaking in New England (ASA 106) (FULLY BOOKED)
DESCRIPTION:S/V KINETIC Offshore \nAfter you’ve experienced bareboat cruising or flotillas\, coastal passagemaking and night sailing is the next natural step in your sailing continuum.  Join Kinetic Sailing for a 5 day coastal passagemaking course departing from Stonington\, CT onboard the Outbound 46 Kinetic. \nInstruction includes advanced sail theory and trim\, weather systems and forecasting\, sail inventory\, advanced coastal navigation\, heavy weather preparation and skills\, night sailing\, watchstanding\, emergency procedures\, systems and engineering\, underway meal prep and much more. ASA 106 Advanced Coastal Cruising (Coastal Passagemaking) certification is available to qualified candidates. \nYour $1750 fee includes onboard meals and beverages\, ships operating costs and port fees. Modest ASA certification materials & fees are additional. \nWhether you’re onboard for a certification or simply to further your skills\, you’ll be actively involved in all aspects of this passage\, for an amazing passagemaking experience!  Details and logistics information available on request. \nFixing position by compass bearings \nUsing radar for storm cell avoidance \n
URL:https://kineticsail.com/schedule/new-england-coastal-passagemaking-asa-106/
END:VEVENT
END:VCALENDAR