BEGIN:VCALENDAR
VERSION:2.0
PRODID:-//Kinetic Sailing - ECPv4.9.13//NONSGML v1.0//EN
CALSCALE:GREGORIAN
METHOD:PUBLISH
X-WR-CALNAME:Kinetic Sailing
X-ORIGINAL-URL:https://kineticsail.com
X-WR-CALDESC:Events for Kinetic Sailing
BEGIN:VTIMEZONE
TZID:UTC
BEGIN:STANDARD
TZOFFSETFROM:+0000
TZOFFSETTO:+0000
TZNAME:UTC
DTSTART:20230101T000000
END:STANDARD
END:VTIMEZONE
BEGIN:VEVENT
DTSTART;TZID=UTC:20230822T193000
DTEND;TZID=UTC:20230822T210000
DTSTAMP:20260423T162126
CREATED:20230622T180212Z
LAST-MODIFIED:20230622T180212Z
UID:2822-1692732600-1692738000@kineticsail.com
SUMMARY:Navigation & Weather Planning for Passagemakers - Live Online Class (2 sessions Aug 22 & 24)
DESCRIPTION: \nSailors of all levels are invited to join Captain Lisa Batchelor Frailey – an expert in meteorology\, passagemaking\, and an ASA Master Instructor – as she helps you master the skills needed to plan coastal and ocean passages with confidence. In this online class you will learn how to use navigation\, weather\, and oceanography to find the best routes\, avoid hazardous winds and seas\, and use the elements to your advantage. \n\nWe’ll review some route planning and marine weather basics\, learn to interpret synoptic weather charts and text forecasts\, explore the pros and cons of GRIB files\, learn to work with weather routers\, and get data offshore. \nFinally\, we’ll put it all together with a bluewater passage scenario\, from climatology through route planning\, Gulf Stream crossing\, enroute weather\, and observations. \nThis online class is designed for sailors of all levels and there are no pre-requisites. Presented in two 90-minute sessions\, Aug 22 and 24\, 2023. Register at the link below for the live sessions and 1-year access to the recorded sessions. \n\n\n\n\nTopics Include:\n\n\n\n\n\nPassage planning methodology\nVessel performance and constraints\nClimatology\nNavigation Basics\nTides & Currents\nGulf Stream – weather and navigation considerations\nMarine Weather Basics – what mariners need to know\n\nCirculation\nWind\, fronts\, clouds\nSea state\n\n\nMarine Weather Sources\nKey NOAA OPC Products\nReading a synoptic weather chart\nGRIB files – pros/cons\, strategy\, viewers\nWeather models and parameters\nWeather routers – human and automated\nGetting information while offshore\nPassage Scenario: Norfolk to USVI\n\n\n\n\n\n\n\n
URL:https://kineticsail.com/schedule/navigation-weather-planning-for-passagemakers-live-online-class-2-sessions-aug-22-24/
END:VEVENT
END:VCALENDAR