BEGIN:VCALENDAR
VERSION:2.0
PRODID:-//Kinetic Sailing - ECPv4.9.13//NONSGML v1.0//EN
CALSCALE:GREGORIAN
METHOD:PUBLISH
X-WR-CALNAME:Kinetic Sailing
X-ORIGINAL-URL:https://kineticsail.com
X-WR-CALDESC:Events for Kinetic Sailing
BEGIN:VTIMEZONE
TZID:UTC
BEGIN:STANDARD
TZOFFSETFROM:+0000
TZOFFSETTO:+0000
TZNAME:UTC
DTSTART:20250101T000000
END:STANDARD
END:VTIMEZONE
BEGIN:VEVENT
DTSTART;TZID=UTC:20250918T193000
DTEND;TZID=UTC:20250925T210000
DTSTAMP:20260423T161835
CREATED:20250912T170819Z
LAST-MODIFIED:20250912T170819Z
UID:2883-1758223800-1758834000@kineticsail.com
SUMMARY:Marine Weather Planning: A Routing Strategy (Online Course)
DESCRIPTION:Blend weather\, oceanography and routing strategy to prepare for coastal and offshore passages. This two-part online course gives sailors a clear framework for integrating weather forecasting into trip planning. Whether you’re a coastal cruiser or an offshore voyager\, understanding marine weather is the first—and most important—step. \nEffective weather planning is more than checking a forecast—it’s a process that starts long before you set sail. This course breaks that process down into actionable steps. You’ll learn how to shape your route using real-time data\, anticipate changes\, and manage your plan underway. \nFrom understanding GRIB files to working with weather routers and analyzing synoptic charts\, this course brings clarity to the complexity of marine weather. You’ll apply everything you learn to a real-world passage scenario from Norfolk to the USVI. \nThis online course is conducted live via Zoom over 2 evenings\, Sep 18 and Sep 25\, at 7:30 pm EST by American Sailing\, and available on-demand after the live presentation. Register with this link for a $20 discount: \nMarine Weather Planning \n \n
URL:https://kineticsail.com/schedule/marine-weather-planning-a-routing-strategy-online-course/
END:VEVENT
END:VCALENDAR