BEGIN:VCALENDAR
VERSION:2.0
PRODID:-//Kinetic Sailing - ECPv4.9.13//NONSGML v1.0//EN
CALSCALE:GREGORIAN
METHOD:PUBLISH
X-WR-CALNAME:Kinetic Sailing
X-ORIGINAL-URL:https://kineticsail.com
X-WR-CALDESC:Events for Kinetic Sailing
BEGIN:VTIMEZONE
TZID:UTC
BEGIN:STANDARD
TZOFFSETFROM:+0000
TZOFFSETTO:+0000
TZNAME:UTC
DTSTART:20210101T000000
END:STANDARD
END:VTIMEZONE
BEGIN:VEVENT
DTSTART;VALUE=DATE:20210109
DTEND;VALUE=DATE:20210118
DTSTAMP:20260423T185316
CREATED:20201026T182840Z
LAST-MODIFIED:20201119T145602Z
UID:2492-1610150400-1610927999@kineticsail.com
SUMMARY:Marine Weather Course (ASA 119)  **Live Webinar Format**
DESCRIPTION:  \n  \nKinetic at Sea \nWeather is the single biggest factor affecting ALL mariners. Take the mystery out of marine weather forecasts by learning the basic principles of marine weather and the range of available resources. Observe weather and sea state conditions\, interpret traditional weather and ocean charts\, and use the latest technological tools and apps. Learn to apply the information for local\, coastal and offshore voyages\, making your time on the water as safe and efficient as possible. \nThis 4-day course (Jan 9/10 and 16/17\, 2021) is conducted via live webinar\, so you can learn and interact from the comfort of your own home. Limited to 20 students to maximize active participation. \nThe course combines lecture\, video\, hands-on exercises and an offshore voyage weather planning practical. Textbook\, workbook and study materials provided. ASA 119 Certification is included upon successful completion.  \nTaught by Capt Lisa Batchelor Frailey – Marine Meteorologist\, Oceanographer and Ocean Passagemaker.  Contact 410-474-7844 or info@kineticsail.com for more details;  register with host ASA school Sail Solomons at the link below.  \n  \nCourse Text \nGRIBs by Satellite Comms \nDodging squalls with radar \nGulf Stream GRIB \n
URL:https://kineticsail.com/schedule/marine-weather-course-asa-119-live-webinar-format/
LOCATION:MD\, United States
ORGANIZER;CN="Kinetic%20Sailing":MAILTO:info@kineticsail.com
END:VEVENT
END:VCALENDAR