BEGIN:VCALENDAR
VERSION:2.0
PRODID:-//Kinetic Sailing - ECPv4.9.13//NONSGML v1.0//EN
CALSCALE:GREGORIAN
METHOD:PUBLISH
X-WR-CALNAME:Kinetic Sailing
X-ORIGINAL-URL:https://kineticsail.com
X-WR-CALDESC:Events for Kinetic Sailing
BEGIN:VTIMEZONE
TZID:UTC
BEGIN:STANDARD
TZOFFSETFROM:+0000
TZOFFSETTO:+0000
TZNAME:UTC
DTSTART:20180101T000000
END:STANDARD
END:VTIMEZONE
BEGIN:VEVENT
DTSTART;VALUE=DATE:20180601
DTEND;VALUE=DATE:20180604
DTSTAMP:20260423T201535
CREATED:20171222T155726Z
LAST-MODIFIED:20171222T160240Z
UID:1872-1527811200-1528070399@kineticsail.com
SUMMARY:Marine Weather Course
DESCRIPTION: \nWeather…. the single biggest factor affecting ALL boaters\, whether sail or power. Take the mystery out of marine weather forecasts; understand the principles\, learn how to apply the information for local trips\, coastal cruising  and ocean voyages. From traditional maritime forecasting skills to the latest technological tools\, this 3-day course will help make your time on the water as safe and efficient as possible. Taught by Capt Lisa Batchelor Frailey\, marine meteorologist and sailing passagemaker.  ASA 119 Marine Weather Endorsement available to qualified students.  Contact Sail Solomons at 410-326-4917 to schedule\, or follow the link below. \n  \n \n \n \n
URL:https://kineticsail.com/schedule/marine-weather-course-2/
END:VEVENT
END:VCALENDAR