BEGIN:VCALENDAR
VERSION:2.0
PRODID:-//Kinetic Sailing - ECPv4.9.13//NONSGML v1.0//EN
CALSCALE:GREGORIAN
METHOD:PUBLISH
X-WR-CALNAME:Kinetic Sailing
X-ORIGINAL-URL:https://kineticsail.com
X-WR-CALDESC:Events for Kinetic Sailing
BEGIN:VTIMEZONE
TZID:UTC
BEGIN:STANDARD
TZOFFSETFROM:+0000
TZOFFSETTO:+0000
TZNAME:UTC
DTSTART:20200101T000000
END:STANDARD
END:VTIMEZONE
BEGIN:VEVENT
DTSTART;TZID=UTC:20201017T140000
DTEND;TZID=UTC:20201017T153000
DTSTAMP:20260423T185413
CREATED:20201010T012801Z
LAST-MODIFIED:20201010T012801Z
UID:2478-1602943200-1602948600@kineticsail.com
SUMMARY:Kinetic Sailing presents Bluewater Passage Weather Planning at JKU
DESCRIPTION:Capt Lisa is honored to present “Bluewater Passage Weather Planning” on Day 4 of the Intensive Bluewater Workshop conducted by John Kretschmer University (JKU).  Lisa focuses on how to select and interpret NOAA OPC marine products\, the pros and cons of GRIB files\, weather routers and offshore comms.   From climatology and route planning to Gulfstream crossing strategy\, it all comes together in a Bluewater Passage scenario.   See JKU’s link below to register for the full workshop. \n
URL:https://kineticsail.com/schedule/kinetic-sailing-presents-bluewater-passage-weather-planning-at-jku/
LOCATION:Spring Cove Marina\, 455 Lore Rd\, Solomons\, MD\, 20688
END:VEVENT
END:VCALENDAR