BEGIN:VCALENDAR
VERSION:2.0
PRODID:-//Kinetic Sailing - ECPv4.9.13//NONSGML v1.0//EN
CALSCALE:GREGORIAN
METHOD:PUBLISH
X-WR-CALNAME:Kinetic Sailing
X-ORIGINAL-URL:https://kineticsail.com
X-WR-CALDESC:Events for Kinetic Sailing
BEGIN:VTIMEZONE
TZID:UTC
BEGIN:STANDARD
TZOFFSETFROM:+0000
TZOFFSETTO:+0000
TZNAME:UTC
DTSTART:20160101T000000
END:STANDARD
END:VTIMEZONE
BEGIN:VEVENT
DTSTART;VALUE=DATE:20160421
DTEND;VALUE=DATE:20160425
DTSTAMP:20260423T231938
CREATED:20160317T012154Z
LAST-MODIFIED:20160317T013208Z
UID:1603-1461196800-1461542399@kineticsail.com
SUMMARY:Kinetic Sailing presents at Cruisers University
DESCRIPTION:  \nLisa & Andy Batchelor of Kinetic Sailing are presenting 3 seminars at Cruisers University during the 2016 Annapolis Spring Sailboat Show: \n\nCruising Green: Preserve the Planet and your Wallet –  Thursday\, Apr 21\, 12:30 – 2:00 pm\nTake the Stress Out of Docking – Thursday\, Apr 21\, 2:15 – 3:45 pm\nNight Cruising Demystified – Friday\, Apr 22\, 12:30 – 2:00 pm\n\n Learn all you need for living aboard a boat. Plan your cruise\, equip and maintain your boat\, and feel at ease heading out. Select from one to four day programs best suited to your cruising needs.  \nCruisers University offers the most comprehensive curriculum on cruising available anywhere. See the full schedule and register for Cruisers University by following the links below.    \n  \n
URL:https://kineticsail.com/schedule/kinetic-sailing-presents-at-cruisers-university/
LOCATION:Loews Hotel\, 126 West Street\, Annapolis\, MD\, 21401\, United States
ORGANIZER;CN="Cruisers%20University":MAILTO:registration@annapolisboatshows.com
END:VEVENT
END:VCALENDAR