BEGIN:VCALENDAR
VERSION:2.0
PRODID:-//Kinetic Sailing - ECPv4.9.13//NONSGML v1.0//EN
CALSCALE:GREGORIAN
METHOD:PUBLISH
X-WR-CALNAME:Kinetic Sailing
X-ORIGINAL-URL:https://kineticsail.com
X-WR-CALDESC:Events for Kinetic Sailing
BEGIN:VTIMEZONE
TZID:UTC
BEGIN:STANDARD
TZOFFSETFROM:+0000
TZOFFSETTO:+0000
TZNAME:UTC
DTSTART:20200101T000000
END:STANDARD
END:VTIMEZONE
BEGIN:VEVENT
DTSTART;VALUE=DATE:20200423
DTEND;VALUE=DATE:20200428
DTSTAMP:20260423T185457
CREATED:20200327T220630Z
LAST-MODIFIED:20200327T221019Z
UID:2388-1587614400-1587959999@kineticsail.com
SUMMARY:Kinetic Sailing presents at Cruisers University (CNX for COVID-19 - stay well\, and please see us at the Fall Show)
DESCRIPTION: \nLisa & Andy Batchelor of Kinetic Sailing are presenting 4 seminars at Cruisers University during the 2020 Annapolis Spring Sailboat Show\, held at The Historic Inns of Annapolis. \nKinetic Sailing’s presentations are on Friday and Saturday\, April 24-25 as follows: \n\nOptimize your Cruising Efficiency – Friday\, Apr 24\, 12:30 – 2 pm\nNight Cruising Demystified – Friday\, Apr 24\, 2:15 – 3:45 pm\nTake the Stress out of Docking – Saturday\, Apr 25\, 10 – 11:30 am\nCruising the Eastern Caribbean – Saturday\, Apr 25\, 12:30 – 3:45 pm  (double session)\n\nAt Cruisers University\, you can learn all you need for living aboard a boat. Plan your cruise\, equip and maintain your boat\, and feel at ease heading out. Select from one to four day programs best suited to your cruising needs. \nCruisers University offers the most comprehensive curriculum on cruising available anywhere. See the full schedule and register for Cruisers University by following the links below. \n \n
URL:https://kineticsail.com/schedule/kinetic-sailing-presents-at-cruisers-university-cnx-for-covid-19-please-see-us-at-the-fall-show/
LOCATION:Historic Inns of Annapolis\, 58 State Circle\, Annapolis\, MD\, 21401\, United States
ORGANIZER;CN="Cruisers%20University":MAILTO:registration@annapolisboatshows.com
END:VEVENT
END:VCALENDAR