BEGIN:VCALENDAR
VERSION:2.0
PRODID:-//Kinetic Sailing - ECPv4.9.13//NONSGML v1.0//EN
CALSCALE:GREGORIAN
METHOD:PUBLISH
X-WR-CALNAME:Kinetic Sailing
X-ORIGINAL-URL:https://kineticsail.com
X-WR-CALDESC:Events for Kinetic Sailing
BEGIN:VTIMEZONE
TZID:UTC
BEGIN:STANDARD
TZOFFSETFROM:+0000
TZOFFSETTO:+0000
TZNAME:UTC
DTSTART:20210101T000000
END:STANDARD
END:VTIMEZONE
BEGIN:VEVENT
DTSTART;VALUE=DATE:20211014
DTEND;VALUE=DATE:20211015
DTSTAMP:20260423T173320
CREATED:20210824T192503Z
LAST-MODIFIED:20210824T194832Z
UID:2700-1634169600-1634255999@kineticsail.com
SUMMARY:Kinetic Sailing presents at Cruisers University
DESCRIPTION:Lisa & Andy Batchelor of Kinetic Sailing are presenting 4 seminars at Cruisers University during the 2021 US Sailboat Show in Annapolis Maryland. Cruisers U will be presented at The Graduate Hotel in downtown Annapolis\, offering over 70 courses from 11-17 October. \nKinetic Sailing’s presentations are on Thursday\, 14 October 2021 as follows: \n\nNight Cruising Demystified:   8:15 – 9:45 am\nBluewater Passage Weather Planning:  10:00 – 11:30 am\nTake the Stress out of Docking:  12:30 – 2:00 pm\nOptimize your Cruising Efficiency:  2:15 – 3:45 pm\n\nAt Cruisers University\, you can learn all you need for living aboard a boat. Plan your cruise\, equip and maintain your boat\, and feel at ease heading out. Select from one to four day programs best suited to your cruising needs. \nCruisers University offers the most comprehensive curriculum on cruising available anywhere. See the full schedule and register for Cruisers University by following the links below. \n \nAndy and Lisa \n
URL:https://kineticsail.com/schedule/kinetic-sailing-presents-at-cruisers-university-3/
LOCATION:The Graduate Hotel\, 126 West Street\, Annapolis\, MD\, 21401
ORGANIZER;CN="Cruisers%20University":MAILTO:tara@annapolisboatshows.com
END:VEVENT
END:VCALENDAR