BEGIN:VCALENDAR
VERSION:2.0
PRODID:-//Kinetic Sailing - ECPv4.9.13//NONSGML v1.0//EN
CALSCALE:GREGORIAN
METHOD:PUBLISH
X-WR-CALNAME:Kinetic Sailing
X-ORIGINAL-URL:https://kineticsail.com
X-WR-CALDESC:Events for Kinetic Sailing
BEGIN:VTIMEZONE
TZID:UTC
BEGIN:STANDARD
TZOFFSETFROM:+0000
TZOFFSETTO:+0000
TZNAME:UTC
DTSTART:20180101T000000
END:STANDARD
END:VTIMEZONE
BEGIN:VEVENT
DTSTART;VALUE=DATE:20181008
DTEND;VALUE=DATE:20181012
DTSTAMP:20260423T202257
CREATED:20180916T223508Z
LAST-MODIFIED:20180916T223508Z
UID:2185-1538956800-1539302399@kineticsail.com
SUMMARY:Kinetic Sailing presents at Cruisers University
DESCRIPTION:Lisa & Andy Batchelor of Kinetic Sailing are presenting 3 seminars at Cruisers University during the 2018 Annapolis Fall Sailboat Show\, held at the Naval Academy Club.   Kinetic Sailing’s presentations are on Monday and Tuesday\, Oct 8-9\, as follows: \n\nCruising the Eastern Caribbean – Mon\, Oct 8\, 8:15 – 11:30 am  (double session)\nBahamas Bound: Cruising the Exumas –  Mon\, Oct 8\, 12:30 – 2:00 pm\nCruising Green – Increase Efficiency and Reduce Your Footprint – Tue\, Oct 9\, 8:15 – 9:45 am\n\nAt Cruisers University\, you can learn all you need for living aboard a boat. Plan your cruise\, equip and maintain your boat\, and feel at ease heading out. Select from one to four day programs best suited to your cruising needs. \nCruisers University offers the most comprehensive curriculum on cruising available anywhere. See the full schedule and register for Cruisers University by following the links below. \n  \n
URL:https://kineticsail.com/schedule/kinetic-sailing-presents-at-cruisers-university-2/
LOCATION:Naval Academy Club\, 2 Truxton Rd\, Annapolis\, MD\, 21402\, United States
ORGANIZER;CN="Cruisers%20University":MAILTO:registration@annapolisboatshows.com
END:VEVENT
END:VCALENDAR