BEGIN:VCALENDAR
VERSION:2.0
PRODID:-//Kinetic Sailing - ECPv4.9.13//NONSGML v1.0//EN
CALSCALE:GREGORIAN
METHOD:PUBLISH
X-WR-CALNAME:Kinetic Sailing
X-ORIGINAL-URL:https://kineticsail.com
X-WR-CALDESC:Events for Kinetic Sailing
BEGIN:VTIMEZONE
TZID:UTC
BEGIN:STANDARD
TZOFFSETFROM:+0000
TZOFFSETTO:+0000
TZNAME:UTC
DTSTART:20160101T000000
END:STANDARD
END:VTIMEZONE
BEGIN:VEVENT
DTSTART;TZID=UTC:20160422T100000
DTEND;TZID=UTC:20160424T170000
DTSTAMP:20260423T231923
CREATED:20160317T015452Z
LAST-MODIFIED:20160411T122608Z
UID:1614-1461319200-1461517200@kineticsail.com
SUMMARY:Kinetic at Annapolis Spring Sailboat Show
DESCRIPTION:See the Outbound 46 Kinetic on display for Outbound Yachts at the Annapolis Spring Sailboat Show!  Climb aboard and see her features\, learn why we chose this for our offshore adventures. You’ll have an opportunity to meet Outbound Yachts representatives\, and Kinetic‘s new owners Lisa & Andy! \nSet in the charming historic seaport of Annapolis\, the 2016 sailboat show is for experienced and novice sailors alike. \nThe fifth annual in-water sailboat show is expected to feature more than 100 new and brokerage boats\, including catamarans\, monohulls\, racing boats\, family cruisers\, day sailors\, and inflatables. \nShop for the latest in marine equipment\, electronics\, clothing and boating accessories at more than one hundred on-land nautical exhibits. \n \n
URL:https://kineticsail.com/schedule/kinetic-at-annapolis-spring-sailboat-show/
END:VEVENT
END:VCALENDAR