BEGIN:VCALENDAR
VERSION:2.0
PRODID:-//Kinetic Sailing - ECPv4.9.13//NONSGML v1.0//EN
CALSCALE:GREGORIAN
METHOD:PUBLISH
X-WR-CALNAME:Kinetic Sailing
X-ORIGINAL-URL:https://kineticsail.com
X-WR-CALDESC:Events for Kinetic Sailing
BEGIN:VTIMEZONE
TZID:UTC
BEGIN:STANDARD
TZOFFSETFROM:+0000
TZOFFSETTO:+0000
TZNAME:UTC
DTSTART:20160101T000000
END:STANDARD
END:VTIMEZONE
BEGIN:VEVENT
DTSTART;VALUE=DATE:20161006
DTEND;VALUE=DATE:20161011
DTSTAMP:20260423T231828
CREATED:20161006T213015Z
LAST-MODIFIED:20161006T220101Z
UID:1676-1475712000-1476143999@kineticsail.com
SUMMARY:Kinetic at 2016 US Sailboat Show
DESCRIPTION:See the Outbound 46 Kinetic on display for Outbound Yachts at the 2016 US Sailboat Show in Annapolis\, running Oct 6-10!  Climb aboard and see her features\, learn why we chose this for our offshore adventures. You’ll have an opportunity to meet Outbound Yachts representatives\, and Kinetic Sailing’s Lisa & Andy Batchelor.  Get a feel for the boat\, and learn how you can join us on our upcoming ocean passages and cruises in the Caribbean and New England! \nThe 2016 US Sailboat show is for experienced and novice sailors alike. It is the nation’s oldest and largest in-water boat show\, and the only boat show in which virtually every major sailboat manufacturer is represented. Sailors have the unique opportunity to board and inspect most new models on the market\, make side-by-side comparisons\, and talk to industry representatives about all aspects of buying and owning a boat. \nWith acres of on-land exhibitors\, the show has the latest in navigational equipment\, high-tech electronics\, boating accessories\, clothing\, gear\, and related services such as boating clubs\, charter companies\, insurance firms\, and lending institutions. Shop for the latest in marine equipment\, electronics\, clothing and boating accessories at more than one hundred on-land nautical exhibits. \n \n  \n
URL:https://kineticsail.com/schedule/kinetic-at-2016-us-sailboat-show/
END:VEVENT
END:VCALENDAR