BEGIN:VCALENDAR
VERSION:2.0
PRODID:-//Kinetic Sailing - ECPv4.9.13//NONSGML v1.0//EN
CALSCALE:GREGORIAN
METHOD:PUBLISH
X-WR-CALNAME:Kinetic Sailing
X-ORIGINAL-URL:https://kineticsail.com
X-WR-CALDESC:Events for Kinetic Sailing
BEGIN:VTIMEZONE
TZID:UTC
BEGIN:STANDARD
TZOFFSETFROM:+0000
TZOFFSETTO:+0000
TZNAME:UTC
DTSTART:20220101T000000
END:STANDARD
END:VTIMEZONE
BEGIN:VEVENT
DTSTART;VALUE=DATE:20221105
DTEND;VALUE=DATE:20221116
DTSTAMP:20260423T173045
CREATED:20221113T190049Z
LAST-MODIFIED:20221113T190049Z
UID:2792-1667606400-1668556799@kineticsail.com
SUMMARY:Instructional Passage (Private)
DESCRIPTION:Kinetic Sailing’s Captains Lisa and Andy are helping boat owners achieve their offshore passagemaking dreams with instructional passages to a winter destination.   This Fall we’re sailing from the Chesapeake Bay to Puerto Rico! \nIf you’d like to explore options for on-your-own-boat passage training\, coastal or offshore\, please contact us for a free consultation! \n \n \n  \n
URL:https://kineticsail.com/schedule/instructional-passage-private/
END:VEVENT
END:VCALENDAR