BEGIN:VCALENDAR
VERSION:2.0
PRODID:-//Kinetic Sailing - ECPv4.9.13//NONSGML v1.0//EN
CALSCALE:GREGORIAN
METHOD:PUBLISH
X-WR-CALNAME:Kinetic Sailing
X-ORIGINAL-URL:https://kineticsail.com
X-WR-CALDESC:Events for Kinetic Sailing
BEGIN:VTIMEZONE
TZID:UTC
BEGIN:STANDARD
TZOFFSETFROM:+0000
TZOFFSETTO:+0000
TZNAME:UTC
DTSTART:20230101T000000
END:STANDARD
END:VTIMEZONE
BEGIN:VEVENT
DTSTART;VALUE=DATE:20230208
DTEND;VALUE=DATE:20230217
DTSTAMP:20260423T160903
CREATED:20230128T201806Z
LAST-MODIFIED:20230128T201806Z
UID:2803-1675814400-1676591999@kineticsail.com
SUMMARY:Cruising Readiness - 4-part Online Class
DESCRIPTION:\nHave you ever dreamed of cruising\, but didn’t know where to start? Planning on becoming a full time liveaboard?  This class will gear you up for what’s ahead. Already out there doing it? Sharpen your knowledge from the experts with this 4-part deep dive into the cruising lifestyle\, what it takes\, and knowledge to keep you better prepared for your next voyage. \n\n\nCruising and living onboard for extended periods present unique opportunities for cruisers. Preparing yourself and your boat for the cruising lifestyle can be an exciting yet confusing prospect. Lisa and Andy Batchelor share their wealth of sailing and cruising knowledge in this interactive and comprehensive webinar series to demystify\, inform and inspire. \nLisa and Andy are ASA Master Instructors and the writers of numerous ASA cruising textbooks. They are the primary contributors to the ASA 106 Advanced Cruising & Seamanship text. \nWhether you are an aspiring cruiser\, a weekend cruiser or you plan to someday embark on a circumnavigation\, this webinar series is designed to provide the knowledge to plan\, prepare for and successfully execute your cruising dreams. The series includes wide-ranging topics that will enable you to operate smoothly and safely. \nFollow the links below for course specifics\, dates and times.  Hope to see you online! \n  \n \n \n  \n  \n\n
URL:https://kineticsail.com/schedule/cruising-readiness-4-part-online-class/
END:VEVENT
END:VCALENDAR