BEGIN:VCALENDAR
VERSION:2.0
PRODID:-//Kinetic Sailing - ECPv4.9.13//NONSGML v1.0//EN
CALSCALE:GREGORIAN
METHOD:PUBLISH
X-WR-CALNAME:Kinetic Sailing
X-ORIGINAL-URL:https://kineticsail.com
X-WR-CALDESC:Events for Kinetic Sailing
BEGIN:VTIMEZONE
TZID:UTC
BEGIN:STANDARD
TZOFFSETFROM:+0000
TZOFFSETTO:+0000
TZNAME:UTC
DTSTART:20210101T000000
END:STANDARD
END:VTIMEZONE
BEGIN:VEVENT
DTSTART;VALUE=DATE:20210903
DTEND;VALUE=DATE:20210921
DTSTAMP:20260423T185033
CREATED:20210830T215618Z
LAST-MODIFIED:20210830T221751Z
UID:2715-1630706400-1632175199@kineticsail.com
SUMMARY:Cruising Croatia
DESCRIPTION:Croatia’s Dalmatian Coast \nKinetic Sailing will be sailing the Dalmatian coast of Croatia between Split/Trogir and Dubrovnik\,  exploring options for future adventures and flotillas. Follow along at https://www.facebook.com/KineticSail and https://share.garmin.com/KineticSailing \nLet us know if you’re interested in joining us in 2022! \n
URL:https://kineticsail.com/schedule/cruising-croatia/
ORGANIZER;CN="Kinetic%20Sailing":MAILTO:info at kineticsail.com
END:VEVENT
END:VCALENDAR