BEGIN:VCALENDAR
VERSION:2.0
PRODID:-//Kinetic Sailing - ECPv4.9.13//NONSGML v1.0//EN
CALSCALE:GREGORIAN
METHOD:PUBLISH
X-WR-CALNAME:Kinetic Sailing
X-ORIGINAL-URL:https://kineticsail.com
X-WR-CALDESC:Events for Kinetic Sailing
BEGIN:VTIMEZONE
TZID:UTC
BEGIN:STANDARD
TZOFFSETFROM:+0000
TZOFFSETTO:+0000
TZNAME:UTC
DTSTART:20180101T000000
END:STANDARD
END:VTIMEZONE
BEGIN:VEVENT
DTSTART;VALUE=DATE:20181126
DTEND;VALUE=DATE:20181204
DTSTAMP:20260423T202333
CREATED:20181012T003444Z
LAST-MODIFIED:20181012T003444Z
UID:2192-1543190400-1543881599@kineticsail.com
SUMMARY:Cruise the Leewards:  St Martin to Antigua
DESCRIPTION:Call for details\, or to tailor to your interests. Maximum 2 guests. Island cruising fm/to St Martin an option.  ASA 104 Bareboat Cruising or ASA 106 Coastal Passagemaking available. \nMaking Landfall \n
URL:https://kineticsail.com/schedule/cruise-the-leewards-st-martin-to-antigua/
LOCATION:St Martin FWI\, Collectivity of Saint Martin
END:VEVENT
END:VCALENDAR