BEGIN:VCALENDAR
VERSION:2.0
PRODID:-//Kinetic Sailing - ECPv4.9.13//NONSGML v1.0//EN
CALSCALE:GREGORIAN
METHOD:PUBLISH
X-WR-CALNAME:Kinetic Sailing
X-ORIGINAL-URL:https://kineticsail.com
X-WR-CALDESC:Events for Kinetic Sailing
BEGIN:VTIMEZONE
TZID:UTC
BEGIN:STANDARD
TZOFFSETFROM:+0000
TZOFFSETTO:+0000
TZNAME:UTC
DTSTART:20180101T000000
END:STANDARD
END:VTIMEZONE
BEGIN:VEVENT
DTSTART;VALUE=DATE:20180820
DTEND;VALUE=DATE:20180828
DTSTAMP:20260423T202825
CREATED:20180703T120448Z
LAST-MODIFIED:20180703T120448Z
UID:2175-1534723200-1535414399@kineticsail.com
SUMMARY:Coastal Passagemaking: New England to Chesapeake Bay
DESCRIPTION:After you’ve experienced bareboat cruising or flotillas\, coastal passagemaking and night sailing is the next natural step in your sailing continuum. Join Kinetic Sailing for a passage from historic Mystic CT to Solomons MD to onboard the Outbound 46 Kinetic. After departing Block Island Sound\, we’ll sail southwest along the Atlantic seaboard\, enter the Chesapeake Bay at Cape Charles\, sailing 90 nm north on the Chesapeake to Solomons. Instruction includes advanced sail theory and trim\, weather systems and forecasting\, sail inventory\, advanced coastal navigation\, heavy weather preparation and skills\, night sailing\, watchstanding\, emergency procedures\, systems and engineering\, underway meal prep and much more. Fees include onboard meals and beverages\, instruction\, ships operating costs and port fees.  ASA 106 Advanced Coastal Cruising (Coastal Passagemaking) certification is available to qualified candidates at a nominal additional fee. Whether you’re onboard for a certification or simply to further your skills\, you’ll be actively involved in all aspects of this passage\, for an experience like no other! \n \n
URL:https://kineticsail.com/schedule/coastal-passagemaking-new-england-to-chesapeake-bay/
LOCATION:Mystic Shipyard\, 100 Essex St\, Mystic\, CT\, 06355\, United States
END:VEVENT
END:VCALENDAR