BEGIN:VCALENDAR
VERSION:2.0
PRODID:-//Kinetic Sailing - ECPv4.9.13//NONSGML v1.0//EN
CALSCALE:GREGORIAN
METHOD:PUBLISH
X-WR-CALNAME:Kinetic Sailing
X-ORIGINAL-URL:https://kineticsail.com
X-WR-CALDESC:Events for Kinetic Sailing
BEGIN:VTIMEZONE
TZID:UTC
BEGIN:STANDARD
TZOFFSETFROM:+0000
TZOFFSETTO:+0000
TZNAME:UTC
DTSTART:20160101T000000
END:STANDARD
END:VTIMEZONE
BEGIN:VEVENT
DTSTART;VALUE=DATE:20160704
DTEND;VALUE=DATE:20160709
DTSTAMP:20260423T232111
CREATED:20160405T234711Z
LAST-MODIFIED:20160405T234753Z
UID:1639-1467590400-1468022399@kineticsail.com
SUMMARY:Coastal Passagemaking: Chesapeake to New England
DESCRIPTION:After you’ve experienced bareboat cruising or flotillas\, coastal passagemaking and night sailing is the next natural step in your sailing continuum. Join Kinetic Sailing for a passage from Solomons MD to Stonington CT onboard the Outbound 46 Kinetic. We’ll sail south down the Chesapeake Bay\, then head out into the Atlantic to sail northeast along the coast\, finally into Long Island Sound to Stonington Harbor. \nInstruction includes advanced sail theory and trim\, weather systems and forecasting\, sail inventory\, advanced coastal navigation\, heavy weather preparation and skills\, night sailing\, watchstanding\, emergency procedures\, systems and engineering\, underway meal prep and much more. ASA 106 Advanced Coastal Cruising (Coastal Passagemaking) certification is available to qualified candidates. \nFees include onboard meals and beverages\, instruction\, certification fees\, ships operating costs and port fees. \nWhether you’re onboard for a certification or simply to further your skills\, you’ll be actively involved in all aspects of this passage\, for an experience like no other! \n \n \n
URL:https://kineticsail.com/schedule/coastal-passagemaking-chesapeake-to-new-england-2/
LOCATION:Kinetic Sailing\, 662 Ruxton Rd\, Solomons\, MD\, 20688\, United States
ORGANIZER;CN="Kinetic%20Sailing":MAILTO:info at kineticsail.com
END:VEVENT
END:VCALENDAR