BEGIN:VCALENDAR
VERSION:2.0
PRODID:-//Kinetic Sailing - ECPv4.9.13//NONSGML v1.0//EN
CALSCALE:GREGORIAN
METHOD:PUBLISH
X-WR-CALNAME:Kinetic Sailing
X-ORIGINAL-URL:https://kineticsail.com
X-WR-CALDESC:Events for Kinetic Sailing
BEGIN:VTIMEZONE
TZID:UTC
BEGIN:STANDARD
TZOFFSETFROM:+0000
TZOFFSETTO:+0000
TZNAME:UTC
DTSTART:20170101T000000
END:STANDARD
END:VTIMEZONE
BEGIN:VEVENT
DTSTART;VALUE=DATE:20171224
DTEND;VALUE=DATE:20180101
DTSTAMP:20260423T214829
CREATED:20170826T162153Z
LAST-MODIFIED:20171222T154706Z
UID:1777-1514073600-1514764799@kineticsail.com
SUMMARY:Christmas in the Caribbean    (FULLY BOOKED)
DESCRIPTION:Energize your holiday – enjoy Christmas in the Caribbean on S/V Kinetic!   Join us onboard to experience the rich nautical history and sail the jewel of the Leeward Islands – Antigua and Barbuda. Swim in crystal clear waters\, snorkel with sea turtles\, hone your sailing skills in the fabulous tradewinds. \nInstruction includes advanced sail theory and trim\, weather systems and forecasting\, sail inventory\, advanced coastal navigation\, heavy weather preparation and skills\, night sailing\, watchstanding\, emergency procedures\, systems and engineering\, underway meal prep and much more. ASA 104 (Bareboat Cruising) and ASA 106 Advanced Coastal Cruising (Coastal Passagemaking) certification is available to qualified candidates. \nFees include onboard meals and beverages\, instruction\, certification fees\, ships operating costs and port fees.  ASA Certification fees are an additional $175. \nWhether you’re onboard for a certification or simply to further your skills in the Islands\, you’ll be actively involved in all aspects of this passage.  Experience Kinetic! \nDevils Hole \nHistoric Nelson’s Dockyard \nBeaches of Barbuda \nJolly Harbour\, Antigua \nLandfall on S/V Kinetic \n
URL:https://kineticsail.com/schedule/christmas-in-the-caribbean/
LOCATION:Antigua\, Antigua And Barbuda
ORGANIZER;CN="Kinetic%20Sailing":MAILTO:info at kineticsail.com
END:VEVENT
END:VCALENDAR