BEGIN:VCALENDAR
VERSION:2.0
PRODID:-//Kinetic Sailing - ECPv4.9.13//NONSGML v1.0//EN
CALSCALE:GREGORIAN
METHOD:PUBLISH
X-WR-CALNAME:Kinetic Sailing
X-ORIGINAL-URL:https://kineticsail.com
X-WR-CALDESC:Events for Kinetic Sailing
BEGIN:VTIMEZONE
TZID:UTC
BEGIN:STANDARD
TZOFFSETFROM:+0000
TZOFFSETTO:+0000
TZNAME:UTC
DTSTART:20160101T000000
END:STANDARD
END:VTIMEZONE
BEGIN:VEVENT
DTSTART;VALUE=DATE:20160415
DTEND;VALUE=DATE:20160507
DTSTAMP:20260423T231657
CREATED:20160210T221611Z
LAST-MODIFIED:20160406T011427Z
UID:1206-1460678400-1462579199@kineticsail.com
SUMMARY:ASA Instructor Qualification Clinics:  April/May 2016
DESCRIPTION: \nReady for a new career as a sailing instructor?  Sail Solomons is conducting a clinic for prospective ASA Sailing Instructors. If you have good sailing skills and the patience and desire to teach\, these clinics could be for you. Or\, you may simply want to upgrade your skills\, get another qualification or attend a fun course! The clinics will be held at Sail Solomons and conducted by Instructor Evaluator Andy Batchelor of Kinetic Sailing. \n\nApr 15-17 – Basic Keelboat (201)\nApr 18 – Basic Coastal Cruising (203)\nMay 4 – Bareboat Cruising (204)\nMay 5 – Docking (218)\nMay 6 – Advanced Coastal Cruising (206)\n\nContact Andy at 410-231-2013 for more information.  Register online with ASA at: ASA Instructor Clinics \n \n \n  \n
URL:https://kineticsail.com/schedule/asa-instructor-qualification-clinics-aprilmay-2016/
LOCATION:Sail Solomons\, Zahniser's Yachting Center\, Solomons\, MD\, 20688\, United States
END:VEVENT
END:VCALENDAR