BEGIN:VCALENDAR
VERSION:2.0
PRODID:-//Kinetic Sailing - ECPv4.9.13//NONSGML v1.0//EN
CALSCALE:GREGORIAN
METHOD:PUBLISH
X-WR-CALNAME:Kinetic Sailing
X-ORIGINAL-URL:https://kineticsail.com
X-WR-CALDESC:Events for Kinetic Sailing
BEGIN:VTIMEZONE
TZID:UTC
BEGIN:STANDARD
TZOFFSETFROM:+0000
TZOFFSETTO:+0000
TZNAME:UTC
DTSTART:20170101T000000
END:STANDARD
END:VTIMEZONE
BEGIN:VEVENT
DTSTART;VALUE=DATE:20170319
DTEND;VALUE=DATE:20170327
DTSTAMP:20260423T215604
CREATED:20161026T165011Z
LAST-MODIFIED:20170202T150458Z
UID:1692-1489881600-1490572799@kineticsail.com
SUMMARY:Antigua Course (ASA 106) - SOLD OUT
DESCRIPTION: \n
URL:https://kineticsail.com/schedule/antigua-course-asa-104-or-106/
END:VEVENT
END:VCALENDAR